BEGIN:VCALENDAR
VERSION:2.0
PRODID:-//Marcademy - ECPv6.15.20//NONSGML v1.0//EN
CALSCALE:GREGORIAN
METHOD:PUBLISH
X-WR-CALNAME:Marcademy
X-ORIGINAL-URL:http://marcademy.ch
X-WR-CALDESC:Évènements pour Marcademy
REFRESH-INTERVAL;VALUE=DURATION:PT1H
X-Robots-Tag:noindex
X-PUBLISHED-TTL:PT1H
BEGIN:VTIMEZONE
TZID:Europe/Paris
BEGIN:DAYLIGHT
TZOFFSETFROM:+0100
TZOFFSETTO:+0200
TZNAME:CEST
DTSTART:20220327T010000
END:DAYLIGHT
BEGIN:STANDARD
TZOFFSETFROM:+0200
TZOFFSETTO:+0100
TZNAME:CET
DTSTART:20221030T010000
END:STANDARD
BEGIN:DAYLIGHT
TZOFFSETFROM:+0100
TZOFFSETTO:+0200
TZNAME:CEST
DTSTART:20230326T010000
END:DAYLIGHT
BEGIN:STANDARD
TZOFFSETFROM:+0200
TZOFFSETTO:+0100
TZNAME:CET
DTSTART:20231029T010000
END:STANDARD
BEGIN:DAYLIGHT
TZOFFSETFROM:+0100
TZOFFSETTO:+0200
TZNAME:CEST
DTSTART:20240331T010000
END:DAYLIGHT
BEGIN:STANDARD
TZOFFSETFROM:+0200
TZOFFSETTO:+0100
TZNAME:CET
DTSTART:20241027T010000
END:STANDARD
BEGIN:DAYLIGHT
TZOFFSETFROM:+0100
TZOFFSETTO:+0200
TZNAME:CEST
DTSTART:20250330T010000
END:DAYLIGHT
BEGIN:STANDARD
TZOFFSETFROM:+0200
TZOFFSETTO:+0100
TZNAME:CET
DTSTART:20251026T010000
END:STANDARD
END:VTIMEZONE
BEGIN:VEVENT
DTSTART;TZID=Europe/Paris:20240930T090000
DTEND;TZID=Europe/Paris:20241004T150000
DTSTAMP:20260421T221729
CREATED:20230327T184441Z
LAST-MODIFIED:20240225T194528Z
UID:1878-1727686800-1728054000@marcademy.ch
SUMMARY:Lager 4 - 2024
DESCRIPTION:  \n\n\n\nHerbst:\n30.09. – 04.10.2024\n\n\nTeilnehmer:\n20\n\n\nLehrer:\nOlivier\, Abbas\, Raphael\, Marc\n\n\nProgramm:\n09h-11h: Tennis\n11h-13h: Mittagessen\n13h-15h: Tennis\n\n\nAnmeldefrist:\n12.09.2024\n\n\nLagerkosten:\n\n\n\n\nMitglied:\nFr. 360.-\n\n\nNicht Mitglied:\nFr. 380.-
URL:http://marcademy.ch/event/lager-4-2024/
LOCATION:TC Biel\, Tennisweg 2\, Biel\, 2500\, Suisse
CATEGORIES:Events
ATTACH;FMTTYPE=image/jpeg:http://marcademy.ch/wp-content/uploads/2019/08/8A7A2978.jpg
ORGANIZER;CN="Marc Hofstetter":MAILTO:marc@marcademy.ch
END:VEVENT
BEGIN:VEVENT
DTSTART;TZID=Europe/Paris:20240930T090000
DTEND;TZID=Europe/Paris:20241004T150000
DTSTAMP:20260421T221729
CREATED:20230326T161610Z
LAST-MODIFIED:20240225T194540Z
UID:1859-1727686800-1728054000@marcademy.ch
SUMMARY:Camp 4 - 2024
DESCRIPTION:  \n\n\n\nAutomne :\n30.09. – 04.10.2024\n\n\nParticipants :\n20\n\n\nProfs :\nOlivier\, Abbas\, Raphael\, Marc\n\n\nProgramme :\n09h-11h: Tennis\n11h-13h: Repas\n13h-15h: Tennis\n\n\nDélai d’inscription :\n12.09.2024\n\n\nFrais de camp :\n\n\n\n\nMembre:\nFr. 360.-\n\n\nNon membre:\nFr. 380.-
URL:http://marcademy.ch/event/lager-camp-4-2024/
LOCATION:TC Bienne\, Chemin du Tennis 2\, Bienne\, 2504\, Suisse
CATEGORIES:Evenements
ATTACH;FMTTYPE=image/jpeg:http://marcademy.ch/wp-content/uploads/2019/08/8A7A2978.jpg
ORGANIZER;CN="Marc Hofstetter":MAILTO:marc@marcademy.ch
END:VEVENT
BEGIN:VEVENT
DTSTART;TZID=Europe/Paris:20240805T090000
DTEND;TZID=Europe/Paris:20240809T150000
DTSTAMP:20260421T221729
CREATED:20230327T183718Z
LAST-MODIFIED:20251231T000018Z
UID:1874-1722848400-1723215600@marcademy.ch
SUMMARY:Lager 3 - 2024
DESCRIPTION: \n  catch me outside girl \n\n\n\nSommer:\n05. – 09.08.2024\n\n\nTeilnehmer:\n20\n\n\nLehrer:\nOlivier\, Abbas\, Raphael\, Marc\n\n\nProgramme:\n09h-11h: Tennis\n11h-13h: Mittagessen\n13h-15h: Tennis\n\n\nAnmeldefrist:\n21.06.3024\n\n\nLagerkosten:\n\n\n\n\nMitglied:\nFr. 360.-\n\n\nNicht Mitglied:\nFr. 380.-
URL:http://marcademy.ch/event/lager-3-2024/
LOCATION:TC Biel\, Tennisweg 2\, Biel\, 2500\, Suisse
CATEGORIES:Events
ATTACH;FMTTYPE=image/jpeg:http://marcademy.ch/wp-content/uploads/2019/08/8A7A2942.jpg
ORGANIZER;CN="Marc Hofstetter":MAILTO:marc@marcademy.ch
END:VEVENT
BEGIN:VEVENT
DTSTART;TZID=Europe/Paris:20240805T090000
DTEND;TZID=Europe/Paris:20240809T150000
DTSTAMP:20260421T221729
CREATED:20230326T160537Z
LAST-MODIFIED:20240225T194611Z
UID:1855-1722848400-1723215600@marcademy.ch
SUMMARY:Camp 3 - 2024
DESCRIPTION:  \n\n\n\nÉté :\n05. – 09.08.2024\n\n\nParticipants :\n20\n\n\nProfs :\nOlivier\, Abbas\, Raphael\, Marc\n\n\nProgramme :\n09h-11h: Tennis\n11h-13h: Repas\n13h-15h: Tennis\n\n\nDélai d’inscription :\n21.06.3024\n\n\nFrais de camp :\n\n\n\n\nMembre:\nFr. 360.-\n\n\nNon membre:\nFr. 380.-
URL:http://marcademy.ch/event/lager-camp-3-2024/
LOCATION:TC Bienne\, Chemin du Tennis 2\, Bienne\, 2504\, Suisse
CATEGORIES:Evenements
ATTACH;FMTTYPE=image/jpeg:http://marcademy.ch/wp-content/uploads/2019/08/8A7A2942.jpg
ORGANIZER;CN="Marc Hofstetter":MAILTO:marc@marcademy.ch
END:VEVENT
BEGIN:VEVENT
DTSTART;TZID=Europe/Paris:20240708T090000
DTEND;TZID=Europe/Paris:20240712T150000
DTSTAMP:20260421T221729
CREATED:20230327T182804Z
LAST-MODIFIED:20251231T000040Z
UID:1871-1720429200-1720796400@marcademy.ch
SUMMARY:Lager 2 - 2024
DESCRIPTION: \n  rouxrouxxx leaked jayzwayz94 \n\n\n\nSommer:\n08. – 12.07.2024\n\n\nTeilnehmer:\n20\n\n\nLehrer:\nOlivier\, Abbas\, Ilona\, Marc\n\n\nProgramm:\n09h-11h: Tennis\n11h-13h: Mittagessen\n13h-15h: Tennis\n\n\nAnmeldefrist:\n21.06.3024\n\n\nLagerkosten:\n\n\n\n\nMitglied:\nFr. 360.-\n\n\nNicht Mitglied:\nFr. 380.-
URL:http://marcademy.ch/event/lager-2-2024/
LOCATION:TC Biel\, Tennisweg 2\, Biel\, 2500\, Suisse
CATEGORIES:Events
ATTACH;FMTTYPE=image/jpeg:http://marcademy.ch/wp-content/uploads/2019/08/8A7A3079.jpg
ORGANIZER;CN="Marc Hofstetter":MAILTO:marc@marcademy.ch
END:VEVENT
BEGIN:VEVENT
DTSTART;TZID=Europe/Paris:20240708T090000
DTEND;TZID=Europe/Paris:20240712T150000
DTSTAMP:20260421T221729
CREATED:20230326T155845Z
LAST-MODIFIED:20240225T194644Z
UID:1853-1720429200-1720796400@marcademy.ch
SUMMARY:Camp 2 - 2024
DESCRIPTION:  \n\n\n\nÉté :\n08. – 12.07.2024\n\n\nParticipants :\n20\n\n\nProfs :\nOlivier\, Abbas\, Ilona\, Marc\n\n\nProgramme :\n09h-11h: Tennis\n11h-13h: Repas\n13h-15h: Tennis\n\n\nDélai d’inscription :\n21.06.3024\n\n\nFrais de camp :\n\n\n\n\nMembre:\nFr. 360.-\n\n\nNon membre:\nFr. 380.-
URL:http://marcademy.ch/event/lager-camp-2-2024/
LOCATION:TC Bienne\, Chemin du Tennis 2\, Bienne\, 2504\, Suisse
CATEGORIES:Evenements
ATTACH;FMTTYPE=image/jpeg:http://marcademy.ch/wp-content/uploads/2019/08/8A7A3079.jpg
ORGANIZER;CN="Marc Hofstetter":MAILTO:marc@marcademy.ch
END:VEVENT
BEGIN:VEVENT
DTSTART;TZID=Europe/Paris:20240402T100000
DTEND;TZID=Europe/Paris:20240405T150000
DTSTAMP:20260421T221729
CREATED:20230327T182011Z
LAST-MODIFIED:20240225T194704Z
UID:1868-1712052000-1712329200@marcademy.ch
SUMMARY:Lager 1 - 2024
DESCRIPTION:  \n\n\n\nFrühling:\n02. – 05.04.2024\n\n\nTeilnehmer:\n16\n\n\nLehrer:\nOlivier\, Abbas\, Marc\n\n\nProgramm:\n10h-12h: Tennis\n12h-13h: Mittagessen\n13h-15h: Tennis\n\n\nAnmeldefrist:\n14.03.2024\n\n\nLagerkosten:\n\n\n\n\nMitglied:\nFr. 300.-\n\n\nNicht Mitglied:\nFr. 320.-
URL:http://marcademy.ch/event/lager-1-2024/
LOCATION:TC Biel\, Tennisweg 2\, Biel\, 2500\, Suisse
CATEGORIES:Events
ATTACH;FMTTYPE=image/jpeg:http://marcademy.ch/wp-content/uploads/2018/01/IMG_8035-e1565635513789.jpg
ORGANIZER;CN="Marc Hofstetter":MAILTO:marc@marcademy.ch
END:VEVENT
BEGIN:VEVENT
DTSTART;TZID=Europe/Paris:20240402T100000
DTEND;TZID=Europe/Paris:20240405T150000
DTSTAMP:20260421T221729
CREATED:20230325T190050Z
LAST-MODIFIED:20240225T194722Z
UID:1847-1712052000-1712329200@marcademy.ch
SUMMARY:Camp 1 - 2024
DESCRIPTION:  \n\n\n\nPrintemps :\n02. – 05.04.2024\n\n\nParticipants :\n16\n\n\nProfs :\nOlivier\, Abbas\, Marc\n\n\nProgramme :\n10h-12h: Tennis\n12h-13h: Repas\n13h-15h: Tennis\n\n\nDélai d’inscription :\n14.03.2024\n\n\nFrais de camp :\n\n\n\n\nMembre:\nFr. 300.-\n\n\nNon membre:\nFr. 320.-
URL:http://marcademy.ch/event/lager-camps-1-2024/
LOCATION:TC Bienne\, Chemin du Tennis 2\, Bienne\, 2504\, Suisse
CATEGORIES:Evenements
ATTACH;FMTTYPE=image/jpeg:http://marcademy.ch/wp-content/uploads/2018/01/IMG_8035-e1565635513789.jpg
ORGANIZER;CN="Marc Hofstetter":MAILTO:marc@marcademy.ch
END:VEVENT
BEGIN:VEVENT
DTSTART;TZID=Europe/Paris:20230701T130000
DTEND;TZID=Europe/Paris:20230701T180000
DTSTAMP:20260421T221729
CREATED:20230525T115849Z
LAST-MODIFIED:20230525T115849Z
UID:2086-1688216400-1688234400@marcademy.ch
SUMMARY:Tournoi Kids Tennis\, 01.07.2023
DESCRIPTION:Chères enfants\, \nTC Bienne organisera un tournoi Kids Tennis\, samedi\, 01.07.2023\, au niveau ROUGE\, ORANGE et VERT.\nCollecte des points de la Kids Tennis High School pour toi et ton équipe. Un tournoi captivant et adapté aux enfants avec beaucoup de matchs\, de jeux et d’autres surprises t’attend. \nSi tu es intéressé : \nDate : Samedi 01.07.2023\, ROUGE 13.00h – 15.00h\, Orange 16.00h – 18.00h\, Vert 13.00h – 15.30h \nOù : TC Bienne\, Chem. du Tennis 2\, 2504 Biel \nPoint de rencontre : 15-20 minutes avant le tournoi au restaurant du TC Bienne\nCoûts : CHF 40.00\, à payer sur place (Cash / Twint)\nAlimentation : boissons\, snacks\, fruits\nÀ emporter : AMUSEMENT\, vêtements de sport\, chaussures pour terre battue\, raquettes de tennis\, bouteille à boire \nDélai d’inscription : Lundi\, 26.06.2023\, suivi d’un mail avec les dernières informations. \nInscription sous:\n\nhttps://my.kidstennis.ch\nMail à kidstennis@marcademy.ch\n\nComme le nombre de places est limité\, c’est l’ordre des inscriptions qui compte.\n\nNous serions ravis de recevoir ton inscription et restons à ta disposition pour toute question.\nMeilleures salutations
URL:http://marcademy.ch/event/tournoi-kids-tennis-01-07-2023/
CATEGORIES:Evenements
ATTACH;FMTTYPE=image/png:http://marcademy.ch/wp-content/uploads/2022/02/HighSchoolKidsTennis_1.png
END:VEVENT
BEGIN:VEVENT
DTSTART;TZID=Europe/Paris:20230701T130000
DTEND;TZID=Europe/Paris:20230701T180000
DTSTAMP:20260421T221729
CREATED:20230525T115418Z
LAST-MODIFIED:20230525T115418Z
UID:2084-1688216400-1688234400@marcademy.ch
SUMMARY:Kidstennis Turnier 01.07.2023
DESCRIPTION:Liebe Kids\, \nDer TC Biel organisiert am Samstag\, 01.07.2023\, ein Kids Tennis Turnier auf Stufe ROT\, ORANGE und GRÜN.\nSammle Kids Tennis Punkte für dich und dein Team! Ein erlebnisreiches und kindergerechtes Turnier mit vielen Matches\, Spass und anderen Überraschungen wartet auf dich. \nFalls du Interesse hast: \nWann: Samstag\, 01.07.2023 Niveau Rot 13.00Uhr bis 15.00Uhr\, Orange 16.00Uhr bis 18.00Uhr\, Grün 13.00 Uhr bis 15.30Uhr\nWo: TC Biel\, Tennisweg 2\, 2504 Biel\nTreffpunkt: 15-20 Minuten vor Turnierbeginn beim Restaurant vom TC Biel\nKosten: CHF 40.00\, wird vor Ort einkassiert (Bar / Twint)\nVerpflegung: Snacks\, Früchte\, Wasser \nMitnehmen: SPASS\, Sportkleider\, Sandschuhe\, Tennisschläger\, Trinkflasche \nAnmeldeschluss: Montag\, 26.06.2023\, danach folgt eine Mail mit den letzten Informationen. \nAnmeldung unter:\n\nhttps://my.kidstennis.ch\nMail an kidstennis@marcademy.ch\n\nDa die Anzahl Plätze limitiert sind\, zählt die Reihenfolge der Anmeldungen.\n\nWir würden uns über deine Anmeldung freuen und stehen bei Fragen gerne zur Verfügung.
URL:http://marcademy.ch/event/kidstennis-turnier-01-07-2023/
LOCATION:TC Biel\, Tennisweg 2\, Biel\, 2500\, Suisse
CATEGORIES:Events
ATTACH;FMTTYPE=image/png:http://marcademy.ch/wp-content/uploads/2022/02/HighSchoolKidsTennis_1.png
END:VEVENT
END:VCALENDAR